BEGIN:VCALENDAR
VERSION:2.0
PRODID:-//BCIT - ECPv6.15.18//NONSGML v1.0//EN
CALSCALE:GREGORIAN
METHOD:PUBLISH
X-WR-CALNAME:BCIT
X-ORIGINAL-URL:https://www.bcit.ca
X-WR-CALDESC:Events for BCIT
REFRESH-INTERVAL;VALUE=DURATION:PT1H
X-Robots-Tag:noindex
X-PUBLISHED-TTL:PT1H
BEGIN:VTIMEZONE
TZID:America/Vancouver
BEGIN:DAYLIGHT
TZOFFSETFROM:-0800
TZOFFSETTO:-0700
TZNAME:PDT
DTSTART:20240310T100000
END:DAYLIGHT
BEGIN:STANDARD
TZOFFSETFROM:-0700
TZOFFSETTO:-0800
TZNAME:PST
DTSTART:20241103T090000
END:STANDARD
BEGIN:DAYLIGHT
TZOFFSETFROM:-0800
TZOFFSETTO:-0700
TZNAME:PDT
DTSTART:20250309T100000
END:DAYLIGHT
BEGIN:STANDARD
TZOFFSETFROM:-0700
TZOFFSETTO:-0800
TZNAME:PST
DTSTART:20251102T090000
END:STANDARD
BEGIN:DAYLIGHT
TZOFFSETFROM:-0800
TZOFFSETTO:-0700
TZNAME:PDT
DTSTART:20260308T100000
END:DAYLIGHT
BEGIN:STANDARD
TZOFFSETFROM:-0700
TZOFFSETTO:-0800
TZNAME:PST
DTSTART:20261101T090000
END:STANDARD
BEGIN:DAYLIGHT
TZOFFSETFROM:-0800
TZOFFSETTO:-0700
TZNAME:PDT
DTSTART:20270314T100000
END:DAYLIGHT
BEGIN:STANDARD
TZOFFSETFROM:-0700
TZOFFSETTO:-0800
TZNAME:PST
DTSTART:20271107T090000
END:STANDARD
END:VTIMEZONE
BEGIN:VEVENT
DTSTART;TZID=America/Vancouver:20260310T190000
DTEND;TZID=America/Vancouver:20260310T200000
DTSTAMP:20260421T005018
CREATED:20260206T231040Z
LAST-MODIFIED:20260219T225226Z
UID:10009934-1773169200-1773172800@www.bcit.ca
SUMMARY:Master of Science in Applied Computing - Online Info Session
DESCRIPTION:“Our MSc grads will be innovative thinkers who focus on using computing in ways that make our lives better.”- Dr. Aaron Hunter\, Associate Dean\, Graduate Studies\, and Technology Professional Programs\n\nLearn more about our Master of Science Degree in Applied Computing and join us for an online Info Session on Tuesday\, March 10\, from 7.00 to 8.00 pm (PST) to find out more about this exciting program. \nRegistration\nThis session will be delivered online using MS Teams. \nYou can register below until Monday\, March 9\, at 3 pm (PST). We will email you the login details on the day before the event. For late registration\, please contact Program Coordinator Bal Lidhar. \nThank you for your interest. We look forward to seeing you on March 10!
URL:https://www.bcit.ca/event/master-of-science-in-applied-computing-online-info-session-2/
LOCATION:Virtual\, Canada
CATEGORIES:Applied Research,Computing & Information Technology,Info Sessions,Online Information Sessions,School of Computing & Academic Studies
ATTACH;FMTTYPE=image/jpeg:https://www.bcit.ca/wp-content/uploads/2025/05/socas_msc_applied_computing-002.jpg
ORGANIZER;CN="School of Computing and Academic Studies":MAILTO:computing@bcit.ca
END:VEVENT
BEGIN:VEVENT
DTSTART;TZID=America/Vancouver:20260212T173000
DTEND;TZID=America/Vancouver:20260212T183000
DTSTAMP:20260421T005018
CREATED:20251217T173139Z
LAST-MODIFIED:20260122T195913Z
UID:10009786-1770917400-1770921000@www.bcit.ca
SUMMARY:Computing full-time Diploma Programs (CIT & CST) - Online Info Session
DESCRIPTION:Diploma Computing students presenting their tech solutions at the ISSP Expo \nTestimonials\n“The appealing thing about BCIT and the Computer Systems Technology (CST) program is that I only needed to attend school for two years.” — Dima Goncharov\, CST grad | Founder Metriport \n“The program has been an absolute game-changer for me\, bringing immense benefits that have shaped my life. It’s not an exaggeration to say it’s been life-changing.” — CIT and award-winning grad Adel Kuanysheva \nOnline Info Session\nLearn more about BCIT Computing Full-time Diploma programs and join us for an online Info Session on Thursday\, February 12\, from 5:30 to 6:30 pm (PST) to find out more about the following programs: \n\nComputer Information Technology (CIT)\nComputer Systems Technology (CST)\n\nBCIT is the largest Computing and IT education provider in Western Canada\, with over 30 applied computing programs and Diploma programs that offer excellent job opportunities. Launch your career in tech at our Vancouver or Burnaby campuses. \nRegistration\nThis session will be delivered online using Microsoft Teams. After a brief presentation\, you’ll have the opportunity to ask questions and learn more about our programs. \nYou can register below until Thursday\, February 12\, at noon (PST)\, and we will email you the login details on the morning of the event. For late registration\, please contact Marketing Coordinator Youri van Vliet. \nThank you for your interest in our Computing Diploma programs. We look forward to seeing you on February 12!
URL:https://www.bcit.ca/event/computing-full-time-diploma-programs-online-info-session/
LOCATION:Virtual\, Canada
CATEGORIES:Computing & Information Technology,Info Sessions,Online Information Sessions,School of Computing & Academic Studies
ATTACH;FMTTYPE=image/png:https://www.bcit.ca/wp-content/uploads/2025/12/ISSP-Expo.png
ORGANIZER;CN="School of Computing and Academic Studies":MAILTO:computing@bcit.ca
END:VEVENT
BEGIN:VEVENT
DTSTART;TZID=America/Vancouver:20251124T180000
DTEND;TZID=America/Vancouver:20251124T190000
DTSTAMP:20260421T005018
CREATED:20251023T185315Z
LAST-MODIFIED:20251023T185315Z
UID:10009643-1764007200-1764010800@www.bcit.ca
SUMMARY:Digital Forensics & Cybersecurity Online Information Session
DESCRIPTION:“I loved learning from my professors\, who were all very knowledgeable\, and I was lucky to have had a lot of opportunities from being at BCIT.” \nRaeann Sherman\, Digital Forensics and Cybersecurity grad \nLearn more about Digital Forensics and Cybersecurity and join us for an online Info Session on Monday\, Nov 24\, at 6 pm (PST). \nYou’ll learn about preventing computer crime and investigating digital criminal activity\, from fraud to violent crime. \nThe program will help you develop technical expertise\, investigative skills\, legal knowledge\, and communication skills for the exciting and growing digital forensics and cybersecurity field. \nRaymond Yu\, our Digital Forensics Program Head\, will discuss program options\, including Bachelor of Technology\, Advanced Certificate\, and Microcredentials. \nRegister to receive the online link to the Information Session \nPlease email BCIT_Forensics@bcit.ca for any questions you may have.  We look forward to seeing you on Nov 24th.
URL:https://www.bcit.ca/event/digital-forensics-cybersecurity-online-information-session/
LOCATION:Virtual\, Canada
CATEGORIES:Computing & Information Technology,Info Sessions,Online Information Sessions,School of Computing & Academic Studies
ATTACH;FMTTYPE=image/jpeg:https://www.bcit.ca/wp-content/uploads/2025/10/DFC-Image.jpeg
ORGANIZER;CN="School of Computing and Academic Studies":MAILTO:computing@bcit.ca
END:VEVENT
BEGIN:VEVENT
DTSTART;TZID=America/Vancouver:20251104T190000
DTEND;TZID=America/Vancouver:20251104T200000
DTSTAMP:20260421T005018
CREATED:20250922T164459Z
LAST-MODIFIED:20250922T164459Z
UID:10009584-1762282800-1762286400@www.bcit.ca
SUMMARY:Master of Science in Applied Computing - Online Info Session
DESCRIPTION:“Our MSc grads will be innovative thinkers who focus on using computing in ways that make our lives better.”- Dr. Aaron Hunter\, BCIT Mastercard Chair in Digital Trust\n\nLearn more about our new Master of Science Degree in Applied Computing and join us for an online Info Session on Tuesday\, November 4\, from 7.00 to 8.00 pm (PST) to find out more about this exciting program. \nRegistration\nThis session will be delivered online using MS Teams. \nYou can register below until Tuesday\, November 4\, at Noon(PST). We will email you the login details on the day of the event. For late registration\, please contact the Program Coordinator Bal Lidhar. \nThank you for your interest. We look forward to seeing you on November 4!
URL:https://www.bcit.ca/event/master-of-science-in-applied-computing-online-info-session/
LOCATION:Virtual\, Canada
CATEGORIES:Applied Research,Computing & Information Technology,Info Sessions,Online Information Sessions,School of Computing & Academic Studies
ATTACH;FMTTYPE=image/jpeg:https://www.bcit.ca/wp-content/uploads/2025/05/socas_msc_applied_computing-002.jpg
ORGANIZER;CN="School of Computing and Academic Studies":MAILTO:computing@bcit.ca
END:VEVENT
BEGIN:VEVENT
DTSTART;TZID=America/Vancouver:20251022T173000
DTEND;TZID=America/Vancouver:20251022T183000
DTSTAMP:20260421T005018
CREATED:20250918T185206Z
LAST-MODIFIED:20250918T185442Z
UID:10009581-1761154200-1761157800@www.bcit.ca
SUMMARY:Computing Full-time Diploma Programs (CIT\, CST & FSWD) - Online Info Session
DESCRIPTION:Testimonials\n“The appealing thing about BCIT and the Computer Systems Technology (CST) program is that I only needed to attend school for two years.” — Dima Goncharov\, CST grad | Founder Metriport \n“The program has been an absolute game-changer for me\, bringing immense benefits that have shaped my life. It’s not an exaggeration to say it’s been life-changing.” — CIT and award-winning grad Adel Kuanysheva \n“One of the highlights was the Industry Sponsored Student Projects (ISSP) program\, where we worked with a real company to gain hands-on experience.” — Brett Gill\, FSWD grad \nCIT students presenting their tech solutions to industry during the ISSP Expo\nOnline Info Session\nLearn more about BCIT Computing Full-time Diploma programs and join us for an online Info Session on Wednesday\, October 22\, from 5:30 to 6:30 pm (PST) to find out more about the following programs: \n\nComputer Information Technology (CIT) | Open for September and January intakes\nComputer Systems Technology (CST) | Open for January intake\nFull-Stack Web Development (FSWD) | Open for September intake\n\nBCIT is the largest Computing and IT education provider in Western Canada\, with over 30 applied computing programs and Diploma programs that offer excellent job opportunities. Launch your career in tech at our Vancouver or Burnaby campuses. \nRegistration\nThis session will be delivered online using Microsoft Teams. After a brief presentation\, you’ll have the opportunity to ask questions and learn more about our programs. \nYou can register below until Monday\, June 23\, at noon (PST)\, and we will email you the login details on the morning of the event. For late registration\, please get in touch with Marketing Coordinator Youri van Vliet. \nThank you for your interest in our Computing Diploma programs. We look forward to seeing you on June 23!
URL:https://www.bcit.ca/event/computing-full-time-diploma-programs-cit-cst-fswd-online-info-session/
LOCATION:Virtual\, Canada
CATEGORIES:Computing & Information Technology,Info Sessions,Online Information Sessions,School of Computing & Academic Studies
ATTACH;FMTTYPE=image/jpeg:https://www.bcit.ca/wp-content/uploads/2024/04/Hero2.jpg
ORGANIZER;CN="School of Computing and Academic Studies":MAILTO:computing@bcit.ca
END:VEVENT
END:VCALENDAR