BEGIN:VCALENDAR
VERSION:2.0
PRODID:-//BCIT - ECPv6.15.18//NONSGML v1.0//EN
CALSCALE:GREGORIAN
METHOD:PUBLISH
X-WR-CALNAME:BCIT
X-ORIGINAL-URL:https://www.bcit.ca
X-WR-CALDESC:Events for BCIT
REFRESH-INTERVAL;VALUE=DURATION:PT1H
X-Robots-Tag:noindex
X-PUBLISHED-TTL:PT1H
BEGIN:VTIMEZONE
TZID:America/Vancouver
BEGIN:DAYLIGHT
TZOFFSETFROM:-0800
TZOFFSETTO:-0700
TZNAME:PDT
DTSTART:20250309T100000
END:DAYLIGHT
BEGIN:STANDARD
TZOFFSETFROM:-0700
TZOFFSETTO:-0800
TZNAME:PST
DTSTART:20251102T090000
END:STANDARD
BEGIN:DAYLIGHT
TZOFFSETFROM:-0800
TZOFFSETTO:-0700
TZNAME:PDT
DTSTART:20260308T100000
END:DAYLIGHT
BEGIN:STANDARD
TZOFFSETFROM:-0700
TZOFFSETTO:-0800
TZNAME:PST
DTSTART:20261101T090000
END:STANDARD
BEGIN:DAYLIGHT
TZOFFSETFROM:-0800
TZOFFSETTO:-0700
TZNAME:PDT
DTSTART:20270314T100000
END:DAYLIGHT
BEGIN:STANDARD
TZOFFSETFROM:-0700
TZOFFSETTO:-0800
TZNAME:PST
DTSTART:20271107T090000
END:STANDARD
END:VTIMEZONE
BEGIN:VEVENT
DTSTART;TZID=America/Vancouver:20260304T173000
DTEND;TZID=America/Vancouver:20260304T200000
DTSTAMP:20260424T202653
CREATED:20260115T175358Z
LAST-MODIFIED:20260220T231010Z
UID:10009808-1772645400-1772654400@www.bcit.ca
SUMMARY:From Uncertainty to Action: Create a Career Strategy that Works
DESCRIPTION:Take your career exploration to the next level at From Uncertainty to Action: Create a Career Strategy that Works. Designed for today’s competitive job market\, this interactive career coaching workshop with Sam Lee introduces an actionable\, evidence-based approach to help you gain clarity and move forward with intention. \nIn this hands-on\, engaging workshop\, you will work directly with Sam\, an experienced coach\, facilitator\, and BCIT Communication faculty to apply practical strategies that bring clarity to your career exploration. Through guided exercises and reflection\, you’ll begin identifying what matters most to you and how to align it with meaningful career opportunities. \nWhether you’re looking for your first job\, aiming for a promotion\, or looking to pivot to a new career\, this workshop provides a structured model\, practical tools\, and supportive guidance to help you confidently plan your next steps. \n\n\n\n\nWHY ATTEND?\nThis interactive workshop is all about doing. You’ll actively engage in exercises designed to help you better understand yourself\, your options\, and where to focus your energy next. With support from an experienced career coach and peers navigating similar questions\, you’ll leave with greater clarity and practical direction. \nYou’ll gain: \n\nA clearer approach to career exploration and decision-making\nStronger understanding of your unique strengths and how to articulate them\nInsight into your values and how to align them with your career goals\nIncreased confidence to take your next career step\n\n\n\n\n\nWHO SHOULD ATTEND\n\nIndividuals seeking their first job or entering the workforce\nProfessionals preparing for a promotion or expanded responsibilities\nAnyone considering a career pivot or transition\nThose looking for a structured\, practical approach to career planning\nPeople who value supportive guidance to confidently identify and take their next steps\n\n\n\n\n\nFEATURE SPEAKER\nSam Lee\, Certified Career Coach & Founder of Leeside Coaching \nSam Lee brings over five years of experience coaching individuals\, groups\, and teams across a wide range of career stages from entry-level professionals to senior leaders. His expertise spans job search strategies\, resume optimization\, interview preparation\, leadership development\, and career transitions. \nAs an Advanced Practitioner in Hope-Action Career Coaching and a BCIT Communication faculty member with over 10 years of teaching experience\, Sam offers a practical\, empathetic approach to career development. Through a supportive and encouraging coaching style\, Sam will help move you forward on developing the insights\, tools\, and confidence you need to succeed in your career next steps. \n\n\n\n\nDOOR PRIZES\nAttendees are eligible to win a variety of exciting door prizes. Please bring non-perishable food items for the BCIT Student Association’s Food Pantry to increase your chances of winning one of many door prizes. (1 food item = 1 entry). \nRegister Today.\n\n\n 
URL:https://www.bcit.ca/event/from-uncertainty-to-action-create-a-career-strategy-that-works/
LOCATION:Building SE02\, Student Association Council Chambers\, 3700 Willingdon Ave.\, Burnaby\, British Columbia\, V5G 3H2\, Canada
CATEGORIES:Alumni
ATTACH;FMTTYPE=image/jpeg:https://www.bcit.ca/wp-content/uploads/2026/01/SA-Career-Workshops-eventbrite-Uncertainty-to-Action.jpg
ORGANIZER;CN="Alumni Association":MAILTO:alumni@bcit.ca
END:VEVENT
END:VCALENDAR