BEGIN:VCALENDAR
VERSION:2.0
PRODID:-//BCIT - ECPv6.15.18//NONSGML v1.0//EN
CALSCALE:GREGORIAN
METHOD:PUBLISH
X-WR-CALNAME:BCIT
X-ORIGINAL-URL:https://www.bcit.ca
X-WR-CALDESC:Events for BCIT
REFRESH-INTERVAL;VALUE=DURATION:PT1H
X-Robots-Tag:noindex
X-PUBLISHED-TTL:PT1H
BEGIN:VTIMEZONE
TZID:America/Vancouver
BEGIN:DAYLIGHT
TZOFFSETFROM:-0800
TZOFFSETTO:-0700
TZNAME:PDT
DTSTART:20240310T100000
END:DAYLIGHT
BEGIN:STANDARD
TZOFFSETFROM:-0700
TZOFFSETTO:-0800
TZNAME:PST
DTSTART:20241103T090000
END:STANDARD
BEGIN:DAYLIGHT
TZOFFSETFROM:-0800
TZOFFSETTO:-0700
TZNAME:PDT
DTSTART:20250309T100000
END:DAYLIGHT
BEGIN:STANDARD
TZOFFSETFROM:-0700
TZOFFSETTO:-0800
TZNAME:PST
DTSTART:20251102T090000
END:STANDARD
BEGIN:DAYLIGHT
TZOFFSETFROM:-0800
TZOFFSETTO:-0700
TZNAME:PDT
DTSTART:20260308T100000
END:DAYLIGHT
BEGIN:STANDARD
TZOFFSETFROM:-0700
TZOFFSETTO:-0800
TZNAME:PST
DTSTART:20261101T090000
END:STANDARD
END:VTIMEZONE
BEGIN:VEVENT
DTSTART;TZID=America/Vancouver:20251107T133000
DTEND;TZID=America/Vancouver:20251107T150000
DTSTAMP:20260425T204848
CREATED:20251002T195949Z
LAST-MODIFIED:20251107T163601Z
UID:10009601-1762522200-1762527600@www.bcit.ca
SUMMARY:The Forge: Peer Support and Resources for Trades Workers
DESCRIPTION:Join the ConnectHER Hub to learn about The Forge\, a peer-led initiative by the Construction Foundation of BC\, created by tradespeople\, for tradespeople to tackle the skilled trades’ mental health crisis. \nHear from Jennie Nadeau and other peer mentors as they share their recovery journey and introduce the support The Forge offers to build trust\, reduce stigma\, and strengthen workplace culture. \n\nIn the trades\, you never work alone and mental health should be no different. \n\nCome for: \n\nSnacks & refreshments\nA draw for a Milwaukee Drill Set for those registered\nOther swag and giveaways\nReal talk about mental health and peer support in the trades\n\nThank you to Fanshawe Corporate Training Solutions  and Embark Student Foundation’s Major Grant Program for their support.
URL:https://www.bcit.ca/event/theforgeatbcit/
LOCATION:Building NW03\, High Performance Building\, 3700 Willingdon Avenue\, Burnaby\, BC\, BC\, V5G 3H2\, Canada
CATEGORIES:Conference,School of Construction & the Environment,Trades & Apprenticeship
ORGANIZER;CN="School of Construction and the Environment":MAILTO:construction@bcit.ca
END:VEVENT
END:VCALENDAR