BEGIN:VCALENDAR
VERSION:2.0
PRODID:-//BCIT - ECPv6.15.18//NONSGML v1.0//EN
CALSCALE:GREGORIAN
METHOD:PUBLISH
X-WR-CALNAME:BCIT
X-ORIGINAL-URL:https://www.bcit.ca
X-WR-CALDESC:Events for BCIT
REFRESH-INTERVAL;VALUE=DURATION:PT1H
X-Robots-Tag:noindex
X-PUBLISHED-TTL:PT1H
BEGIN:VTIMEZONE
TZID:America/Vancouver
BEGIN:DAYLIGHT
TZOFFSETFROM:-0800
TZOFFSETTO:-0700
TZNAME:PDT
DTSTART:20240310T100000
END:DAYLIGHT
BEGIN:STANDARD
TZOFFSETFROM:-0700
TZOFFSETTO:-0800
TZNAME:PST
DTSTART:20241103T090000
END:STANDARD
BEGIN:DAYLIGHT
TZOFFSETFROM:-0800
TZOFFSETTO:-0700
TZNAME:PDT
DTSTART:20250309T100000
END:DAYLIGHT
BEGIN:STANDARD
TZOFFSETFROM:-0700
TZOFFSETTO:-0800
TZNAME:PST
DTSTART:20251102T090000
END:STANDARD
BEGIN:DAYLIGHT
TZOFFSETFROM:-0800
TZOFFSETTO:-0700
TZNAME:PDT
DTSTART:20260308T100000
END:DAYLIGHT
BEGIN:STANDARD
TZOFFSETFROM:-0700
TZOFFSETTO:-0800
TZNAME:PST
DTSTART:20261101T090000
END:STANDARD
BEGIN:DAYLIGHT
TZOFFSETFROM:-0800
TZOFFSETTO:-0700
TZNAME:PDT
DTSTART:20270314T100000
END:DAYLIGHT
BEGIN:STANDARD
TZOFFSETFROM:-0700
TZOFFSETTO:-0800
TZNAME:PST
DTSTART:20271107T090000
END:STANDARD
END:VTIMEZONE
BEGIN:VEVENT
DTSTART;TZID=America/Vancouver:20260314T110000
DTEND;TZID=America/Vancouver:20260314T140000
DTSTAMP:20260425T162829
CREATED:20260113T205247Z
LAST-MODIFIED:20260306T221659Z
UID:10009804-1773486000-1773496800@www.bcit.ca
SUMMARY:Equity in Contracting 3.0
DESCRIPTION:Building on the energy and impact of Equity in Contracting 2.0\, Equity in Contracting 3.0 continues the work of strengthening pathways to leadership\, ownership\, and equity in the skilled trades. \nIn 2026\, we are once again bringing together women and gender-diverse trades workers\, contractors\, industry leaders\, and allies for a powerful day of connection\, learning\, and collective action. Equity in Contracting 3.0 deepens the conversation\, moving beyond access and entry toward sustained leadership\, business growth\, and systemic change within the contracting and construction sectors. We have an exceptional panel moderated by Priya Hartley Anderson\, Owner of Rockwood Electrical and including: \n\nChantel Sinnott of Sinnott Electric\nPenny Gotto of GreenVista Contracting \nSasha Kassis of Wildeside Construction \nMahara Gibson Zeinoun of Princess Plumbing \n\nParticipants can expect: \n\nInsightful discussions led by experienced trades leaders and changemakers\nPractical strategies for navigating contracting\, leadership\, and entrepreneurship\nMeaningful networking rooted in community\, solidarity\, and shared purpose\nCelebration of achievements that continue to shift what leadership in the trades looks like\n\nGrounded in the same spirit of collaboration that defined 2.0\, this event reinforces a clear message: when we invest in equity\, mentorship\, and collective leadership\, the entire industry is stronger. \nEquity in Contracting 3.0 is proudly supported by the BCIT ConnectHER Hub\, alongside valued partners and industry champions committed to creating safer\, more inclusive\, and more equitable futures in the trades. \n  \nLooking to connect\, grow\, and lead in the skilled trades?\nExplore upcoming opportunities through the ConnectHER Hub and follow @bcitconnectherhub on Instagram to stay connected and inspired.
URL:https://www.bcit.ca/event/equity-in-contracting-3-0/
LOCATION:Building SE02\, TownSquare A/B\, 3700 Willingdon Avenue\, Burnaby\, BC\, V5G 3H2\, Canada
CATEGORIES:School of Construction & the Environment,Trades & Apprenticeship
ATTACH;FMTTYPE=image/png:https://www.bcit.ca/wp-content/uploads/2026/01/Equity-in-Contracting-3.0-1.png
ORGANIZER;CN="School of Construction and the Environment":MAILTO:construction@bcit.ca
END:VEVENT
BEGIN:VEVENT
DTSTART;TZID=America/Vancouver:20260304T163000
DTEND;TZID=America/Vancouver:20260304T183000
DTSTAMP:20260425T162829
CREATED:20260213T210545Z
LAST-MODIFIED:20260213T210545Z
UID:10009965-1772641800-1772649000@www.bcit.ca
SUMMARY:Sheet Metal Info Session
DESCRIPTION:A nationally-designated trade under the Interprovincial Red Seal Program\nThe sheet metal trade consists of a wide variety of areas that you could be employed in. Sheet metal work includes the following: heating\, ventilation\, and air conditioning in residential\, commercial and industrial settings. Other specialized areas include stainless steel\, industrial exhaust systems\, architectural work and roofing. \nBeing employed in sheet metal can be both challenging and lucrative. You could be working in a shop environment\, working on a job site or both. \nJoin us in person for more information on our Sheet Metal programs.
URL:https://www.bcit.ca/event/sheet-metal-info-session/
LOCATION:Building NE01\, Room 142\, 3700 Willingdon Avenue\, Burnaby\, BC\, V5G 3H2\, Canada
CATEGORIES:Info Sessions,School of Construction & the Environment,Trades & Apprenticeship
ATTACH;FMTTYPE=image/jpeg:https://www.bcit.ca/wp-content/uploads/2020/11/sheetmetal-scaled.jpg
ORGANIZER;CN="School of Construction and the Environment":MAILTO:construction@bcit.ca
END:VEVENT
BEGIN:VEVENT
DTSTART;TZID=America/Vancouver:20260225T180000
DTEND;TZID=America/Vancouver:20260225T193000
DTSTAMP:20260425T162829
CREATED:20260107T172220Z
LAST-MODIFIED:20260219T223115Z
UID:10009800-1772042400-1772047800@www.bcit.ca
SUMMARY:Forest and Natural Areas Management Online Info Session
DESCRIPTION:Join us virtually on Wednesday\, February 25th\, from 6:00 – 7:30 pm for an online Info Session. Learn how you can protect and manage BC’s most valuable resources. Get your questions answered by FNAM Program Head Julia Alards-Tomalin and the FNAM faculty. \nPlease register using the form below. \nTurn your passion for the outdoors into a career \nAlmost 60% of British Columbia is forested\, providing vital social\, ecological\, and environmental benefits. Practicing sustainable stewardship requires leaders who can balance these values. If you see yourself managing our ecosystems sustainably\, the Forest and Natural Areas Management (FNAM) program is your starting point. \nWhy Choose FNAM? Through hands-on experiential learning\, you’ll gain a foundation in natural sciences and field skills while mastering the “balance” required for modern forestry. Our unique curriculum integrates scientific and Indigenous knowledge to prepare you for a rewarding career. \nMaster the Skills That Matter: \n\nEcosystem Analysis: Identify and interpret connected ecosystems.\nWildfire & Forest Health: Learn active suppression\, proactive management\, and disease mitigation.\nUrban Biodiversity: Manage green spaces that provide wildlife habitat and heat-wave moderation.\nHolistic Management: Apply ethical and Indigenous perspectives to land-use decision-making.\n\nProfessional Designations & Support: \n\nGet Certified: Our program is a gateway to becoming a Registered Forest Technologist (RFT)\, Technical Agrologist (TAg)\, or ISA Certified Arborist.\nDegree Transfers: Explore transfer agreements with institutions like UNBC. More transfer agreements are currently being developed!\nFunding Opportunities: Learn about the Indigenous Forestry Scholarship Program\, which includes tuition support and paid summer work placements with industry partners.
URL:https://www.bcit.ca/event/forest-and-natural-areas-management-online-info-session/
LOCATION:Online
CATEGORIES:Applied & Natural Sciences,Info Sessions,Online Information Sessions,School of Construction & the Environment
ATTACH;FMTTYPE=image/jpeg:https://www.bcit.ca/wp-content/uploads/2026/01/Picture-FNAM-Info-Session.jpg
ORGANIZER;CN="School of Construction and the Environment":MAILTO:construction@bcit.ca
END:VEVENT
BEGIN:VEVENT
DTSTART;TZID=America/Vancouver:20251209T183000
DTEND;TZID=America/Vancouver:20251209T193000
DTSTAMP:20260425T162829
CREATED:20251118T183512Z
LAST-MODIFIED:20251203T222000Z
UID:10009687-1765305000-1765308600@www.bcit.ca
SUMMARY:Certificate in Essential Technical Skills for Architecture\, Construction and Engineering (ACE) Information Session
DESCRIPTION:The Certificate in Essential Technical Skills in Architecture\, Construction & Engineering (“ACE Certificate”) is a unique educational program designed to introduce young adults (18-26) and to orient newcomers to Canada to the fields of architecture\, construction management\, engineering and related fields (referred to as the ACE sector).  The ACE Certificate provides students with the opportunity to gain in-demand entry level skills\, knowledge and experience relevant to the ACE sector in a blended\, applied approach to learning that combines classroom-based learning\, work-integrated-learning and online learning. \nJoin us on Tuesday December 9th from 6:30 to 7:30 pm for a live virtual information session via Teams\, where we will share information about the ACE Certificate\, program entrance requirements and recommendations for success\, upcoming application dates\, and other important program details. A Q&A session will follow the presentation. \nProspective students\, parents\, school district representatives\, newcomer agencies\, and other interested parties are welcome to attend.
URL:https://www.bcit.ca/event/certificate-in-essential-technical-skills-for-architecture-construction-and-engineering-ace-information-session/
LOCATION:Online
ORGANIZER;CN="School of Construction and the Environment":MAILTO:construction@bcit.ca
END:VEVENT
BEGIN:VEVENT
DTSTART;TZID=America/Vancouver:20251107T133000
DTEND;TZID=America/Vancouver:20251107T150000
DTSTAMP:20260425T162829
CREATED:20251002T195949Z
LAST-MODIFIED:20251107T163601Z
UID:10009601-1762522200-1762527600@www.bcit.ca
SUMMARY:The Forge: Peer Support and Resources for Trades Workers
DESCRIPTION:Join the ConnectHER Hub to learn about The Forge\, a peer-led initiative by the Construction Foundation of BC\, created by tradespeople\, for tradespeople to tackle the skilled trades’ mental health crisis. \nHear from Jennie Nadeau and other peer mentors as they share their recovery journey and introduce the support The Forge offers to build trust\, reduce stigma\, and strengthen workplace culture. \n\nIn the trades\, you never work alone and mental health should be no different. \n\nCome for: \n\nSnacks & refreshments\nA draw for a Milwaukee Drill Set for those registered\nOther swag and giveaways\nReal talk about mental health and peer support in the trades\n\nThank you to Fanshawe Corporate Training Solutions  and Embark Student Foundation’s Major Grant Program for their support.
URL:https://www.bcit.ca/event/theforgeatbcit/
LOCATION:Building NW03\, High Performance Building\, 3700 Willingdon Avenue\, Burnaby\, BC\, BC\, V5G 3H2\, Canada
CATEGORIES:Conference,School of Construction & the Environment,Trades & Apprenticeship
ORGANIZER;CN="School of Construction and the Environment":MAILTO:construction@bcit.ca
END:VEVENT
BEGIN:VEVENT
DTSTART;TZID=America/Vancouver:20251105T170000
DTEND;TZID=America/Vancouver:20251105T183000
DTSTAMP:20260425T162829
CREATED:20250915T160100Z
LAST-MODIFIED:20251010T220642Z
UID:10009571-1762362000-1762367400@www.bcit.ca
SUMMARY:2025 BCIT Engineering Panel and Info Session
DESCRIPTION:Are you interested in a rewarding career path in the Engineering field? \nJoin us for a panel featuring inspiring women in engineering on Wednesday\, November 5\, 2025\, from 5 pm to 6:30 pm at SE02 Town Square A & B on BCIT Burnaby Campus (3700 Willingdon Avenue\, Burnaby\, BC) \nAfter the panel\, attendees will have the chance to interact with faculty\, staff\, and students to learn more about the programs offered by the BCIT School of Construction and the Environment\, including Civil Engineering\, Geomatics (Surveying & Mapping)\, Building Science\, and Architectural and Building Technology (ABT).  \nDate: Wednesday\, November 5\, 2025 \nTime: 5:00 pm – 6:30 pm \nEvent Location is SE02 Town Square A & B on BCIT Burnaby Campus (3700 Willingdon Avenue\, Burnaby\, BC) \nListen to a panel of inspiring women in engineering share their experiences: \nLinda Cong\, BCIT Civil Engineering grad and Civil Engineer at Transportation Investment Corporation. \nPatria Jela Pena\, BCIT Geomatics grad and Geospatial Technician at Underhill Geomatics Ltd. \nHannah Matlock\, BCIT Building Science grad and Building Envelope Specialist at Entuitive. \nConstanza Zarz Garcia Tello\, BCIT Architectural and Building Technology (ABT) grad and Project Administrator at Kindred Construction Ltd.
URL:https://www.bcit.ca/event/bcit-engineering-panel-and-info-session/
LOCATION:Building SE02\, TownSquare A/B\, 3700 Willingdon Avenue\, Burnaby\, BC\, V5G 3H2\, Canada
ATTACH;FMTTYPE=image/png:https://www.bcit.ca/wp-content/uploads/2025/09/5824_wie_digital_slide_fy26_h_p2.png
ORGANIZER;CN="School of Construction and the Environment":MAILTO:construction@bcit.ca
END:VEVENT
BEGIN:VEVENT
DTSTART;TZID=America/Vancouver:20251031T064500
DTEND;TZID=America/Vancouver:20251031T100000
DTSTAMP:20260425T162829
CREATED:20250919T200605Z
LAST-MODIFIED:20251030T191247Z
UID:10009585-1761893100-1761904800@www.bcit.ca
SUMMARY:2025 BCIT United Way Halloween Pancake Breakfast
DESCRIPTION:The BCIT United Way Halloween Pancake Breakfast is back! This year’s theme is 80’s Retro-Neon Mornings & Maple Syrup. \nPlease join us on Halloween\, Friday\, October 31st\, between 6:45 AM to 10:00 AM at the NE4 Carpentry Shop on the BCIT Burnaby Campus. \nDress in your best ’80s outfit ! Costumes are optional but encouraged. \nEnjoy tasty pancakes and coffee while supporting a great cause. Sausages are for the early birds! \nSuggested donation: $5. \nAll proceeds from this event will go toward United Way BC programs that help hundreds of thousands of vulnerable and low-income children\, families\, and seniors across the Lower Mainland. \nHosted by BCIT School of Construction and the Environment with support from BCIT Events. \nGenerous sponsors include Chartwells\, BCITSA\, RWC Systems\, Smith Bros. & Wilson\, Ledcor\, PCL Westcoast Constructors\, ETRO Construction\, Mark’s Commercial\, Paladin Security\, DeWalt\, BEST\, Trus Joist – Weyerhaeuser\, Coca-Cola\, Sysco\, and more! \nPlease fill out the form below if you would like to receive updates about this event.
URL:https://www.bcit.ca/event/bcit-united-way-halloween-pancake-breakfast-2025/
LOCATION:Building NE04\, Room Carpentry Shop\, 3700 Willingdon Avenue\, Burnaby\, BC\, V5G 3H2\, Canada
CATEGORIES:School of Construction & the Environment,Special Event
ATTACH;FMTTYPE=image/jpeg:https://www.bcit.ca/wp-content/uploads/2025/09/5850_halloween_pancake_breakfast_2025_sides_p1_page-0002-scaled.jpg
ORGANIZER;CN="School of Construction and the Environment":MAILTO:construction@bcit.ca
END:VEVENT
END:VCALENDAR