BEGIN:VCALENDAR
VERSION:2.0
PRODID:-//BCIT - ECPv6.15.18//NONSGML v1.0//EN
CALSCALE:GREGORIAN
METHOD:PUBLISH
X-WR-CALNAME:BCIT
X-ORIGINAL-URL:https://www.bcit.ca
X-WR-CALDESC:Events for BCIT
REFRESH-INTERVAL;VALUE=DURATION:PT1H
X-Robots-Tag:noindex
X-PUBLISHED-TTL:PT1H
BEGIN:VTIMEZONE
TZID:America/Vancouver
BEGIN:DAYLIGHT
TZOFFSETFROM:-0800
TZOFFSETTO:-0700
TZNAME:PDT
DTSTART:20240310T100000
END:DAYLIGHT
BEGIN:STANDARD
TZOFFSETFROM:-0700
TZOFFSETTO:-0800
TZNAME:PST
DTSTART:20241103T090000
END:STANDARD
BEGIN:DAYLIGHT
TZOFFSETFROM:-0800
TZOFFSETTO:-0700
TZNAME:PDT
DTSTART:20250309T100000
END:DAYLIGHT
BEGIN:STANDARD
TZOFFSETFROM:-0700
TZOFFSETTO:-0800
TZNAME:PST
DTSTART:20251102T090000
END:STANDARD
BEGIN:DAYLIGHT
TZOFFSETFROM:-0800
TZOFFSETTO:-0700
TZNAME:PDT
DTSTART:20260308T100000
END:DAYLIGHT
BEGIN:STANDARD
TZOFFSETFROM:-0700
TZOFFSETTO:-0800
TZNAME:PST
DTSTART:20261101T090000
END:STANDARD
END:VTIMEZONE
BEGIN:VEVENT
DTSTART;TZID=America/Vancouver:20251112T143000
DTEND;TZID=America/Vancouver:20251112T160000
DTSTAMP:20260421T062737
CREATED:20250822T180658Z
LAST-MODIFIED:20251022T165831Z
UID:10009502-1762957800-1762963200@www.bcit.ca
SUMMARY:Disney Cultural Exchange Program – In-person Info Session
DESCRIPTION:Exciting opportunity for ALL FULL-TIME BCIT students! Experience the magic of a paid summer internship at Walt Disney World in Florida with the Disney Cultural Exchange Program. \nThe first 50 attendees get exclusive Disney swag – register now to secure your spot!
URL:https://www.bcit.ca/event/disney-cultural-exchange-program-in-person-info-session/
LOCATION:Building SE06\, Telus Theatre\, 3700 Willingdon Avenue\, Burnaby\, BC\, V5G 3H2\, Canada
CATEGORIES:Business & Media,Info Sessions,School of Business,Student Events
ATTACH;FMTTYPE=image/png:https://www.bcit.ca/wp-content/uploads/2025/08/disney-cultural-exchange-program.png
END:VEVENT
BEGIN:VEVENT
DTSTART;TZID=America/Vancouver:20251105T173000
DTEND;TZID=America/Vancouver:20251105T183000
DTSTAMP:20260421T062737
CREATED:20250416T184550Z
LAST-MODIFIED:20250416T184550Z
UID:10009182-1762363800-1762367400@www.bcit.ca
SUMMARY:Broadcast + Media Communications – In-Person Info Session
DESCRIPTION:If telling stories is your vibe\, we’ve got you covered. Broadcast and Media Communications at BCIT provides the tools to turn your creative dreams into reality. Using the latest digital\, video and audio technology\, you’ll learn the art of storytelling across multiple platforms. \nWhether it’s in front of the camera\, on the mic or behind the scenes\, our grads are respected journalists\, filmmakers\, hosts\, producers\, directors\, editors and videographers working throughout B.C.\, Canada and around the world. An exciting career bringing stories to life starts at BCIT! \nBCIT Broadcast + Media Communications is hosting an in-person info session. This info session starts promptly at 5:30 pm at BCIT Burnaby Campus in Building SE 10\, Studio 1\, with a presentation and concludes with a question and answer period with program staff. \nThis info session covers all the different programs within the Broadcast area\, including: \nBroadcast + Online Journalism: Diploma + Associate Certificate\,\nMusic Business Associate Certificate\,\nRadio Arts + Entertainment: Diploma + Associate Certificate\,\nTelevision + Video Production Diploma\,\nVideo Production + Editing Associate Certificate.
URL:https://www.bcit.ca/event/broadcast-media-communications-in-person-info-session-10/
LOCATION:BCIT Broadcast Centre Building SE10\, BCIT SE10 - Broadcasting\, Burnaby\, British Columbia\, V5G 3L1\, Canada
CATEGORIES:Business & Media,Info Sessions,School of Business
ATTACH;FMTTYPE=image/jpeg:https://www.bcit.ca/wp-content/uploads/2025/04/Broadcast-2025-26-info-session-feature-image.jpg
END:VEVENT
BEGIN:VEVENT
DTSTART;TZID=America/Vancouver:20251103T173000
DTEND;TZID=America/Vancouver:20251103T190000
DTSTAMP:20260421T062737
CREATED:20250730T211903Z
LAST-MODIFIED:20250730T211903Z
UID:10009458-1762191000-1762196400@www.bcit.ca
SUMMARY:Graphic Communications In-Person Info Session
DESCRIPTION:This interactive session will feature a program presentation\, demonstrations\, and industry insights\, providing you with a comprehensive understanding of the courses and career opportunities. Learn about our hands-on approach\, industry-standard equipment\, and job-ready skills that prepare our students for success.  \nMeet our program staff\, ask questions\, and discover how you can turn your passion for design and visual storytelling into a fulfilling career. \n The event will take place at the NW3 building on the BCIT Burnaby campus. We look forward to meeting you!
URL:https://www.bcit.ca/event/graphic-communications-in-person-info-session/
LOCATION:Building NW03\, BCIT NW3\, Smith St\, Burnaby\, BC\, V5G\, Canada
CATEGORIES:Business & Media,Info Sessions,School of Business
ATTACH;FMTTYPE=image/jpeg:https://www.bcit.ca/wp-content/uploads/2025/07/GCOMM-Feature-image-InPerson-Session.jpg
END:VEVENT
BEGIN:VEVENT
DTSTART;TZID=America/Vancouver:20251029T173000
DTEND;TZID=America/Vancouver:20251029T183000
DTSTAMP:20260421T062737
CREATED:20250711T200405Z
LAST-MODIFIED:20250711T200405Z
UID:10009424-1761759000-1761762600@www.bcit.ca
SUMMARY:Marketing Management – Online Info Session
DESCRIPTION:Why take a BCIT Marketing Management program or course? Marketing functions play a vital part of any business operation. By studying marketing you can have a creative\, challenging\, and rewarding career. Demand for BCIT Marketing Management graduates is strong—and the potential for higher-than-average income is also an incentive! \nBCIT Business offers a diverse range of marketing programs and courses\, offered both full-time and part-time. Full-time programs are offered at the Burnaby campus\, while part-time programs and courses are offered in Burnaby\, Vancouver\, and online. \nThis online info session starts promptly at 5:30 pm with a presentation and concludes with a question and answer period with program staff. You will be emailed a link to the session 1.5 – 2.5 hours before it starts. It covers how to enroll in the common first-year for Marketing students\, and then how to select one of the 5 different full-time\, second-year options within the Marketing Management area\, including: \nDiploma | Marketing Management \n\n Digital Marketing and Brand Strategy Option\n Entrepreneurship Option\n Professional Real Estate Option\n Professional Sales Option\nTourism Marketing and Sales Option\n\n 
URL:https://www.bcit.ca/event/marketing-management-online-info-session-3/
LOCATION:Online
CATEGORIES:Business & Media,Info Sessions,School of Business
ATTACH;FMTTYPE=image/jpeg:https://www.bcit.ca/wp-content/uploads/2023/07/Feature-Image9.jpg
END:VEVENT
BEGIN:VEVENT
DTSTART;TZID=America/Vancouver:20251029T143000
DTEND;TZID=America/Vancouver:20251029T153000
DTSTAMP:20260421T062737
CREATED:20251006T164758Z
LAST-MODIFIED:20251020T170248Z
UID:10009591-1761748200-1761751800@www.bcit.ca
SUMMARY:Economic Reconciliation in Practice: Squamish Nation - Woodfibre LNG Agreement
DESCRIPTION:Join us for an important conversation on economic reconciliation in practice. Chief Ian Campbell\, Hereditary Chief of the Squamish Nation\, will share his perspective on leading the Squamish Nation–Woodfibre LNG Environmental Assessment Agreement\, an example of economic reconciliation. Moderated by Jerome Gessaroli\, Faculty in the BCIT School of Business + Media\, the session will explore how Indigenous communities\, and industry can build meaningful collaboration and pursue shared economic and environmental goals. \nPresented by the Energy Pathways Initiative in partnership with BCIT’s Indigenous Initiatives and Partnerships and the School of Business + Media.
URL:https://www.bcit.ca/event/economic-reconciliation-in-practice-squamish-nation-woodfibre-lng-agreement/
LOCATION:Building SE02\, TownSquare A\, 3700 Willingdon Avenue\, Burnaby\, BC\, V5G 3H2\, Canada
CATEGORIES:Indigenous,School of Business,School of Construction & the Environment,School of Energy
ATTACH;FMTTYPE=image/jpeg:https://www.bcit.ca/wp-content/uploads/2025/10/5855-SoBM-Squamish-Woodfire-LNG-Agreement-Web_p4-1.jpg
END:VEVENT
BEGIN:VEVENT
DTSTART;TZID=America/Vancouver:20251022T173000
DTEND;TZID=America/Vancouver:20251022T183000
DTSTAMP:20260421T062737
CREATED:20250711T172656Z
LAST-MODIFIED:20250711T172656Z
UID:10009417-1761154200-1761157800@www.bcit.ca
SUMMARY:Flexible Learning Marketing Management - Online Info Session
DESCRIPTION:Why take a BCIT Marketing Management program or course? \nMarketing functions play a vital part of any business operation. By studying marketing you can have a creative\, challenging\, and rewarding career. Demand for BCIT Marketing Management graduates is strong—and the potential for higher-than-average income is also an incentive! \nBCIT Business offers a diverse range of flexible learning (part-time) marketing programs and courses. BCIT part-time courses are taught in our Downtown Vancouver Campus (DTC)\, Burnaby Campus (BBY)\, and Online. \nThis online info session starts promptly at 5:30 pm with a presentation and concludes with a question and answer period with program staff. You will be emailed a link to the session 1.5 – 2.5 hours before it starts. The info session will cover the following flexible marketing management learning programs: \nBachelor Degree | Business Administration\nCertificate | Event Marketing and Management Strategy\nCertificate | Marketing Communications\nCertificate | Marketing Management\nCertificate | Professional Sales\nAssociate Certificate | Customer Relationship Marketing*\nAssociate Certificate | Digital Marketing Foundations*\nAssociate Certificate | Digital Marketing Strategy\nAssociate Certificate | Entrepreneurship\nAssociate Certificate | Event Marketing and Planning Foundations\nAssociate Certificate | Fundraising Management*\nAssociate Certificate | Marketing Communications*\nAssociate Certificate | Nonprofit Management*\nAssociate Certificate | Public Relations*\nAssociate Certificate | Sales Skills\nAssociate Certificate | Tourism and Hospitality \n*Can be completed entirely online
URL:https://www.bcit.ca/event/flexible-learning-marketing-management-online-info-session/
LOCATION:Online
CATEGORIES:Business & Media,Info Sessions,School of Business
ATTACH;FMTTYPE=image/jpeg:https://www.bcit.ca/wp-content/uploads/2023/07/Feature-Image10.jpg
END:VEVENT
END:VCALENDAR